BEGIN:VCALENDAR
VERSION:2.0
PRODID:-//Thuis in Rooi - ECPv6.11.2.1//NONSGML v1.0//EN
CALSCALE:GREGORIAN
METHOD:PUBLISH
X-ORIGINAL-URL:https://thuisinrooi.nl
X-WR-CALDESC:Evenementen voor Thuis in Rooi
REFRESH-INTERVAL;VALUE=DURATION:PT1H
X-Robots-Tag:noindex
X-PUBLISHED-TTL:PT1H
BEGIN:VTIMEZONE
TZID:Europe/Helsinki
BEGIN:DAYLIGHT
TZOFFSETFROM:+0200
TZOFFSETTO:+0300
TZNAME:EEST
DTSTART:20240331T010000
END:DAYLIGHT
BEGIN:STANDARD
TZOFFSETFROM:+0300
TZOFFSETTO:+0200
TZNAME:EET
DTSTART:20241027T010000
END:STANDARD
END:VTIMEZONE
BEGIN:VEVENT
DTSTART;TZID=Europe/Helsinki:20241210T153000
DTEND;TZID=Europe/Helsinki:20241210T180000
DTSTAMP:20260421T201342
CREATED:20241028T081647Z
LAST-MODIFIED:20241128T104712Z
UID:1051-1733844600-1733853600@thuisinrooi.nl
SUMMARY:Kerststukjes maken. kosten 7\,50
DESCRIPTION:Kom gezellig kerststukjes maken onder het genot van een lekker bakje koffie/thee en fijn gezelschap
URL:https://thuisinrooi.nl/event/kerststukjes-maken/
LOCATION:Thuis in Rooi
ORGANIZER;CN="Thuis in Rooi":MAILTO:info@thuisinrooi.nl
END:VEVENT
BEGIN:VEVENT
DTSTART;TZID=Europe/Helsinki:20241217T153000
DTEND;TZID=Europe/Helsinki:20241217T180000
DTSTAMP:20260421T201342
CREATED:20241128T104013Z
LAST-MODIFIED:20241128T104311Z
UID:1066-1734449400-1734458400@thuisinrooi.nl
SUMMARY:schrijf een wens op een kerstbal. kosten 2\,50
DESCRIPTION:
URL:https://thuisinrooi.nl/event/schrijf-een-wens-op-een-kerstbal/
LOCATION:Thuis in Rooi
ORGANIZER;CN="Thuis in Rooi":MAILTO:info@thuisinrooi.nl
END:VEVENT
BEGIN:VEVENT
DTSTART;VALUE=DATE:20241224
DTEND;VALUE=DATE:20241226
DTSTAMP:20260421T201342
CREATED:20241211T171148Z
LAST-MODIFIED:20241211T171151Z
UID:1078-1735005600-1735091999@thuisinrooi.nl
SUMMARY:tijdens kerst zijn wij gesloten
DESCRIPTION:Dinsdag 24 December
URL:https://thuisinrooi.nl/event/tijdens-kerst-zijn-wij-gesloten/
LOCATION:Thuis in Rooi
ORGANIZER;CN="Thuis in Rooi":MAILTO:info@thuisinrooi.nl
END:VEVENT
BEGIN:VEVENT
DTSTART;VALUE=DATE:20241225
DTEND;VALUE=DATE:20241227
DTSTAMP:20260421T201342
CREATED:20241211T171557Z
LAST-MODIFIED:20241211T171904Z
UID:1083-1735092000-1735178399@thuisinrooi.nl
SUMMARY:gesloten
DESCRIPTION:Gesloten
URL:https://thuisinrooi.nl/event/gesloten/
LOCATION:Thuis in Rooi
ORGANIZER;CN="Thuis in Rooi":MAILTO:info@thuisinrooi.nl
END:VEVENT
BEGIN:VEVENT
DTSTART;VALUE=DATE:20241226
DTEND;VALUE=DATE:20241228
DTSTAMP:20260421T201342
CREATED:20241211T171643Z
LAST-MODIFIED:20241211T171833Z
UID:1085-1735178400-1735264799@thuisinrooi.nl
SUMMARY:gesloten
DESCRIPTION:Gesloten
URL:https://thuisinrooi.nl/event/gesloten-2/
LOCATION:Thuis in Rooi
ORGANIZER;CN="Thuis in Rooi":MAILTO:info@thuisinrooi.nl
END:VEVENT
BEGIN:VEVENT
DTSTART;VALUE=DATE:20241227
DTEND;VALUE=DATE:20241229
DTSTAMP:20260421T201342
CREATED:20241211T171355Z
LAST-MODIFIED:20241211T172028Z
UID:1080-1735264800-1735351199@thuisinrooi.nl
SUMMARY:Tijdens kerst zijn wij gesloten
DESCRIPTION:Vrijdag 27 December zijn wij gesloten
URL:https://thuisinrooi.nl/event/tijdens-kerst-zijn-wij-gesloten-2/
LOCATION:Thuis in Rooi
ORGANIZER;CN="Thuis in Rooi":MAILTO:info@thuisinrooi.nl
END:VEVENT
END:VCALENDAR