BEGIN:VCALENDAR
VERSION:2.0
PRODID:-//Thuis in Rooi - ECPv6.11.2.1//NONSGML v1.0//EN
CALSCALE:GREGORIAN
METHOD:PUBLISH
X-WR-CALNAME:Thuis in Rooi
X-ORIGINAL-URL:https://thuisinrooi.nl
X-WR-CALDESC:Evenementen voor Thuis in Rooi
REFRESH-INTERVAL;VALUE=DURATION:PT1H
X-Robots-Tag:noindex
X-PUBLISHED-TTL:PT1H
BEGIN:VTIMEZONE
TZID:Europe/Helsinki
BEGIN:DAYLIGHT
TZOFFSETFROM:+0200
TZOFFSETTO:+0300
TZNAME:EEST
DTSTART:20250330T010000
END:DAYLIGHT
BEGIN:STANDARD
TZOFFSETFROM:+0300
TZOFFSETTO:+0200
TZNAME:EET
DTSTART:20251026T010000
END:STANDARD
END:VTIMEZONE
BEGIN:VEVENT
DTSTART;TZID=Europe/Helsinki:20250409T150000
DTEND;TZID=Europe/Helsinki:20250409T173000
DTSTAMP:20260421T131802
CREATED:20260318T113039Z
LAST-MODIFIED:20260309T113713Z
UID:1127-1744210800-1744219800@thuisinrooi.nl
SUMMARY:Paasstukjes maken.
DESCRIPTION:Gezellig samen paasstukjes maken. \nLaat je creatieve fantasie tot uiting komen. \nSchilderen\, tekenen\, plakken enz.
URL:https://thuisinrooi.nl/event/paasstukjes-maken/
LOCATION:Thuis in Rooi
ORGANIZER;CN="Thuis in Rooi":MAILTO:info@thuisinrooi.nl
END:VEVENT
END:VCALENDAR