BEGIN:VCALENDAR
VERSION:2.0
PRODID:-//Thuis in Rooi - ECPv6.11.2.1//NONSGML v1.0//EN
CALSCALE:GREGORIAN
METHOD:PUBLISH
X-WR-CALNAME:Thuis in Rooi
X-ORIGINAL-URL:https://thuisinrooi.nl
X-WR-CALDESC:Evenementen voor Thuis in Rooi
REFRESH-INTERVAL;VALUE=DURATION:PT1H
X-Robots-Tag:noindex
X-PUBLISHED-TTL:PT1H
BEGIN:VTIMEZONE
TZID:Europe/Helsinki
BEGIN:DAYLIGHT
TZOFFSETFROM:+0200
TZOFFSETTO:+0300
TZNAME:EEST
DTSTART:20260329T010000
END:DAYLIGHT
BEGIN:STANDARD
TZOFFSETFROM:+0300
TZOFFSETTO:+0200
TZNAME:EET
DTSTART:20261025T010000
END:STANDARD
END:VTIMEZONE
BEGIN:VEVENT
DTSTART;TZID=Europe/Helsinki:20260304T130000
DTEND;TZID=Europe/Helsinki:20260304T160000
DTSTAMP:20260421T145613
CREATED:20260212T184844Z
LAST-MODIFIED:20260212T184848Z
UID:1236-1772629200-1772640000@thuisinrooi.nl
SUMMARY:Bingo Deelname €2\,50
DESCRIPTION:BINGO \nAanvang 13.00 uur tot 16.00 uur. \nAanmelden kan tijdens openingstijden. \nMondeling of tel. 06-17475327
URL:https://thuisinrooi.nl/event/bingo-deelname-e250/
LOCATION:Thuis in Rooi
ORGANIZER;CN="Thuis in Rooi":MAILTO:info@thuisinrooi.nl
END:VEVENT
BEGIN:VEVENT
DTSTART;TZID=Europe/Helsinki:20260312T120000
DTEND;TZID=Europe/Helsinki:20260312T140000
DTSTAMP:20260421T145613
CREATED:20260212T183651Z
LAST-MODIFIED:20260212T183655Z
UID:1232-1773316800-1773324000@thuisinrooi.nl
SUMMARY:Eten wat de pot schaft. Deelname €12.00
DESCRIPTION:Eten wat de pot schaft. \nAanvang 12\,00 uur. \nKosten €12.00.
URL:https://thuisinrooi.nl/event/eten-wat-de-pot-schaft-deelname-e12-00/
LOCATION:Thuis in Rooi
ORGANIZER;CN="Thuis in Rooi":MAILTO:info@thuisinrooi.nl
END:VEVENT
BEGIN:VEVENT
DTSTART;TZID=Europe/Helsinki:20260318T133000
DTEND;TZID=Europe/Helsinki:20260318T160000
DTSTAMP:20260421T145613
CREATED:20260309T182108Z
LAST-MODIFIED:20260309T182331Z
UID:1239-1773840600-1773849600@thuisinrooi.nl
SUMMARY:Paasstukjes maken €7\,50
DESCRIPTION:Gezellig samen paasstukjes maken. \nLaat je creatieve fantasie tot uiting komen. \nSchilderen\, tekenen\, plakken enz. \nOpgeven bij de vrijwilligers of bel tijdens openingstijden. 06-17475327
URL:https://thuisinrooi.nl/event/paasstukjes-maken-e750/
LOCATION:Thuis in Rooi
ORGANIZER;CN="Thuis in Rooi":MAILTO:info@thuisinrooi.nl
END:VEVENT
BEGIN:VEVENT
DTSTART;TZID=Europe/Helsinki:20260327T133000
DTEND;TZID=Europe/Helsinki:20260327T160000
DTSTAMP:20260421T145613
CREATED:20250922T080536Z
LAST-MODIFIED:20250922T080536Z
UID:1205-1774618200-1774627200@thuisinrooi.nl
SUMMARY:Keezen en Tokken Deelname €2\,50
DESCRIPTION:Keezen en Tokken \nAanmelden bij een van de vrijwilligers. \nDeelname €2\,50
URL:https://thuisinrooi.nl/event/keezen-en-tokken-deelname-e250-3/
LOCATION:Thuis in Rooi
ORGANIZER;CN="Thuis in Rooi":MAILTO:info@thuisinrooi.nl
END:VEVENT
END:VCALENDAR